Package: dStruct Version: 1.17.0 Command: /home/biocbuild/bbs-3.23-bioc/R/bin/R CMD INSTALL dStruct StartedAt: 2025-11-07 15:14:24 -0500 (Fri, 07 Nov 2025) EndedAt: 2025-11-07 15:14:27 -0500 (Fri, 07 Nov 2025) EllapsedTime: 2.6 seconds RetCode: 0 Status: OK