Package: customProDB Version: 1.51.0 Command: /home/biocbuild/bbs-3.23-bioc/R/bin/R CMD INSTALL customProDB StartedAt: 2025-11-07 15:40:12 -0500 (Fri, 07 Nov 2025) EndedAt: 2025-11-07 15:40:55 -0500 (Fri, 07 Nov 2025) EllapsedTime: 43.3 seconds RetCode: 0 Status: OK