Package: customProDB Version: 1.51.0 Command: /home/biocbuild/bbs-3.23-bioc/R/bin/R CMD build --keep-empty-dirs --no-resave-data customProDB StartedAt: 2025-11-07 17:02:38 -0500 (Fri, 07 Nov 2025) EndedAt: 2025-11-07 17:03:53 -0500 (Fri, 07 Nov 2025) EllapsedTime: 75.0 seconds RetCode: 0 Status: OK PackageFile: customProDB_1.51.0.tar.gz PackageFileSize: 540.5 KiB