Package: customProDB Version: 1.51.0 Maintainer: Xiaojing Wang MaintainerEmail: xwang.research at gmail.com git_url: https://git.bioconductor.org/packages/customProDB git_branch: devel git_last_commit: 8317345 git_last_commit_date: 2025-10-29 10:15:09 -0500 (Wed, 29 Oct 2025)