Package: customCMPdb Version: 1.21.0 Command: /home/biocbuild/bbs-3.23-bioc/R/bin/R CMD INSTALL customCMPdb StartedAt: 2025-11-26 15:26:09 -0500 (Wed, 26 Nov 2025) EndedAt: 2025-11-26 15:26:27 -0500 (Wed, 26 Nov 2025) EllapsedTime: 18.0 seconds RetCode: 0 Status: OK