Package: customCMPdb Version: 1.21.0 Command: /home/biocbuild/bbs-3.23-bioc/R/bin/R CMD build --keep-empty-dirs --no-resave-data customCMPdb StartedAt: 2025-11-26 17:05:27 -0500 (Wed, 26 Nov 2025) EndedAt: 2025-11-26 17:07:14 -0500 (Wed, 26 Nov 2025) EllapsedTime: 107.1 seconds RetCode: 0 Status: OK PackageFile: customCMPdb_1.21.0.tar.gz PackageFileSize: 683.6 KiB