Package: csaw Version: 1.45.0 Command: /home/biocbuild/bbs-3.23-bioc/R/bin/R CMD build --keep-empty-dirs --no-resave-data csaw StartedAt: 2025-11-10 17:06:04 -0500 (Mon, 10 Nov 2025) EndedAt: 2025-11-10 17:07:31 -0500 (Mon, 10 Nov 2025) EllapsedTime: 87.1 seconds RetCode: 0 Status: OK PackageFile: csaw_1.45.0.tar.gz PackageFileSize: 389.2 KiB