Package: condiments Version: 1.19.0 Command: /home/biocbuild/bbs-3.23-bioc/R/bin/R CMD INSTALL condiments StartedAt: 2025-11-25 15:58:15 -0500 (Tue, 25 Nov 2025) EndedAt: 2025-11-25 15:58:49 -0500 (Tue, 25 Nov 2025) EllapsedTime: 34.6 seconds RetCode: 0 Status: OK