Package: condiments Version: 1.19.0 Command: /home/biocbuild/bbs-3.23-bioc/R/bin/R CMD build --keep-empty-dirs --no-resave-data condiments StartedAt: 2025-11-25 16:59:47 -0500 (Tue, 25 Nov 2025) EndedAt: 2025-11-25 17:03:01 -0500 (Tue, 25 Nov 2025) EllapsedTime: 194.2 seconds RetCode: 0 Status: OK PackageFile: condiments_1.19.0.tar.gz PackageFileSize: 1.999 MiB