Package: condiments Version: 1.19.0 Maintainer: Hector Roux de Bezieux MaintainerEmail: hector.rouxdebezieux at berkeley.edu git_url: https://git.bioconductor.org/packages/condiments git_branch: devel git_last_commit: 68a222c git_last_commit_date: 2025-10-29 11:07:39 -0500 (Wed, 29 Oct 2025)