Package: compcodeR Version: 1.47.0 Command: /home/biocbuild/bbs-3.23-bioc/R/bin/R CMD check --install=check:compcodeR.install-out.txt --library=/home/biocbuild/bbs-3.23-bioc/R/site-library --timings compcodeR_1.47.0.tar.gz StartedAt: 2025-11-09 22:10:11 -0500 (Sun, 09 Nov 2025) EndedAt: 2025-11-09 22:15:34 -0500 (Sun, 09 Nov 2025) EllapsedTime: 323.4 seconds RetCode: 0 Status: OK CheckDir: compcodeR.Rcheck Warnings: 0