Package: compcodeR Version: 1.47.0 Command: /home/biocbuild/bbs-3.23-bioc/R/bin/R CMD build --keep-empty-dirs --no-resave-data compcodeR StartedAt: 2025-11-09 16:53:45 -0500 (Sun, 09 Nov 2025) EndedAt: 2025-11-09 16:54:07 -0500 (Sun, 09 Nov 2025) EllapsedTime: 22.0 seconds RetCode: 0 Status: OK PackageFile: compcodeR_1.47.0.tar.gz PackageFileSize: 4.743 MiB