Package: compcodeR Version: 1.47.0 Command: /Library/Frameworks/R.framework/Resources/bin/R CMD build --keep-empty-dirs --no-resave-data compcodeR StartedAt: 2025-11-24 16:32:54 -0500 (Mon, 24 Nov 2025) EndedAt: 2025-11-24 16:33:25 -0500 (Mon, 24 Nov 2025) EllapsedTime: 30.9 seconds RetCode: 0 Status: OK PackageFile: compcodeR_1.47.0.tar.gz PackageFileSize: 4.74 MiB