Package: compcodeR Version: 1.47.0 Command: /Library/Frameworks/R.framework/Resources/bin/R CMD INSTALL compcodeR StartedAt: 2025-11-24 15:04:40 -0500 (Mon, 24 Nov 2025) EndedAt: 2025-11-24 15:04:57 -0500 (Mon, 24 Nov 2025) EllapsedTime: 16.6 seconds RetCode: 0 Status: OK