Package: compcodeR Version: 1.47.0 Maintainer: Charlotte Soneson MaintainerEmail: charlottesoneson at gmail.com git_url: https://git.bioconductor.org/packages/compcodeR git_branch: devel git_last_commit: 7aac3d1 git_last_commit_date: 2025-10-29 10:19:15 -0500 (Wed, 29 Oct 2025)