Package: compSPOT Version: 1.9.0 Command: /home/biocbuild/bbs-3.23-bioc/R/bin/R CMD INSTALL compSPOT StartedAt: 2025-11-07 15:09:52 -0500 (Fri, 07 Nov 2025) EndedAt: 2025-11-07 15:10:04 -0500 (Fri, 07 Nov 2025) EllapsedTime: 12.4 seconds RetCode: 0 Status: OK