Package: compSPOT Version: 1.9.0 Maintainer: Sydney Grant MaintainerEmail: Sydney.Grant at roswellpark.org git_url: https://git.bioconductor.org/packages/compSPOT git_branch: devel git_last_commit: fa7146f git_last_commit_date: 2025-10-29 11:24:46 -0500 (Wed, 29 Oct 2025)