Package: compEpiTools Version: 1.45.0 Command: /home/biocbuild/bbs-3.23-bioc/R/bin/R CMD INSTALL compEpiTools StartedAt: 2025-11-09 15:48:51 -0500 (Sun, 09 Nov 2025) EndedAt: 2025-11-09 15:49:50 -0500 (Sun, 09 Nov 2025) EllapsedTime: 58.7 seconds RetCode: 0 Status: OK