Package: compEpiTools Version: 1.45.0 Command: /home/biocbuild/bbs-3.23-bioc/R/bin/R CMD build --keep-empty-dirs --no-resave-data compEpiTools StartedAt: 2025-11-10 16:59:01 -0500 (Mon, 10 Nov 2025) EndedAt: 2025-11-10 17:00:28 -0500 (Mon, 10 Nov 2025) EllapsedTime: 87.1 seconds RetCode: 0 Status: OK PackageFile: compEpiTools_1.45.0.tar.gz PackageFileSize: 2.166 MiB