Package: compEpiTools Version: 1.45.0 Maintainer: Mattia Furlan MaintainerEmail: mattia.furlan at iit.it git_url: https://git.bioconductor.org/packages/compEpiTools git_branch: devel git_last_commit: 949eb04 git_last_commit_date: 2025-10-29 10:20:59 -0500 (Wed, 29 Oct 2025)