Package: codelink Version: 1.79.0 Command: /home/biocbuild/bbs-3.23-bioc/R/bin/R CMD build --keep-empty-dirs --no-resave-data codelink StartedAt: 2025-11-26 16:54:54 -0500 (Wed, 26 Nov 2025) EndedAt: 2025-11-26 16:55:26 -0500 (Wed, 26 Nov 2025) EllapsedTime: 32.0 seconds RetCode: 0 Status: OK PackageFile: codelink_1.79.0.tar.gz PackageFileSize: 3.182 MiB