Package: cmapR Version: 1.23.0 Command: /home/biocbuild/bbs-3.23-bioc/R/bin/R CMD INSTALL cmapR StartedAt: 2025-11-23 15:22:01 -0500 (Sun, 23 Nov 2025) EndedAt: 2025-11-23 15:22:24 -0500 (Sun, 23 Nov 2025) EllapsedTime: 23.5 seconds RetCode: 0 Status: OK