Package: cmapR Version: 1.23.0 Command: /home/biocbuild/bbs-3.23-bioc/R/bin/R CMD build --keep-empty-dirs --no-resave-data cmapR StartedAt: 2025-11-21 16:52:49 -0500 (Fri, 21 Nov 2025) EndedAt: 2025-11-21 16:53:41 -0500 (Fri, 21 Nov 2025) EllapsedTime: 52.0 seconds RetCode: 0 Status: OK PackageFile: cmapR_1.23.0.tar.gz PackageFileSize: 3.817 MiB