Package: clustifyr Version: 1.23.0 Maintainer: Rui Fu MaintainerEmail: ray.sinensis at gmail.com git_url: https://git.bioconductor.org/packages/clustifyr git_branch: devel git_last_commit: a7c098e git_last_commit_date: 2025-10-29 10:56:51 -0500 (Wed, 29 Oct 2025)