Package: clusterSeq Version: 1.35.0 Maintainer: Samuel Granjeaud MaintainerEmail: samuel.granjeaud at inserm.fr git_url: https://git.bioconductor.org/packages/clusterSeq git_branch: devel git_last_commit: de26638 git_last_commit_date: 2025-10-29 10:35:57 -0500 (Wed, 29 Oct 2025)