Package: clusterExperiment Version: 2.31.0 Command: /home/biocbuild/bbs-3.23-bioc/R/bin/R CMD INSTALL clusterExperiment StartedAt: 2025-11-17 15:53:17 -0500 (Mon, 17 Nov 2025) EndedAt: 2025-11-17 15:54:32 -0500 (Mon, 17 Nov 2025) EllapsedTime: 74.8 seconds RetCode: 0 Status: OK