Package: clusterExperiment Version: 2.31.0 Command: /home/biocbuild/bbs-3.23-bioc/R/bin/R CMD build --keep-empty-dirs --no-resave-data clusterExperiment StartedAt: 2025-11-17 16:58:30 -0500 (Mon, 17 Nov 2025) EndedAt: 2025-11-17 17:03:31 -0500 (Mon, 17 Nov 2025) EllapsedTime: 301.2 seconds RetCode: 0 Status: OK PackageFile: clusterExperiment_2.31.0.tar.gz PackageFileSize: 11.92 MiB