Package: clustSIGNAL Version: 1.3.0 Command: /home/biocbuild/bbs-3.23-bioc/R/bin/R CMD INSTALL clustSIGNAL StartedAt: 2025-11-07 15:55:35 -0500 (Fri, 07 Nov 2025) EndedAt: 2025-11-07 15:56:06 -0500 (Fri, 07 Nov 2025) EllapsedTime: 31.1 seconds RetCode: 0 Status: OK