Package: cliProfiler Version: 1.17.0 Command: /home/biocbuild/bbs-3.23-bioc/R/bin/R CMD INSTALL cliProfiler StartedAt: 2025-11-09 15:29:41 -0500 (Sun, 09 Nov 2025) EndedAt: 2025-11-09 15:30:18 -0500 (Sun, 09 Nov 2025) EllapsedTime: 36.6 seconds RetCode: 0 Status: OK