Package: cliProfiler Version: 1.17.0 Maintainer: You Zhou MaintainerEmail: youzhoulearning at gmail.com git_url: https://git.bioconductor.org/packages/cliProfiler git_branch: devel git_last_commit: ac5b6e2 git_last_commit_date: 2025-10-29 11:12:54 -0500 (Wed, 29 Oct 2025)