Package: cleanUpdTSeq Version: 1.49.0 Command: /home/biocbuild/bbs-3.23-bioc/R/bin/R CMD INSTALL cleanUpdTSeq StartedAt: 2025-11-07 15:36:00 -0500 (Fri, 07 Nov 2025) EndedAt: 2025-11-07 15:37:01 -0500 (Fri, 07 Nov 2025) EllapsedTime: 60.3 seconds RetCode: 0 Status: OK