Package: cleanUpdTSeq Version: 1.49.0 Command: /home/biocbuild/bbs-3.23-bioc/R/bin/R CMD build --keep-empty-dirs --no-resave-data cleanUpdTSeq StartedAt: 2025-11-07 16:47:52 -0500 (Fri, 07 Nov 2025) EndedAt: 2025-11-07 16:49:12 -0500 (Fri, 07 Nov 2025) EllapsedTime: 79.1 seconds RetCode: 0 Status: OK PackageFile: cleanUpdTSeq_1.49.0.tar.gz PackageFileSize: 4.008 MiB