Package: cleanUpdTSeq Version: 1.49.0 Maintainer: Jianhong Ou ; Lihua Julie Zhu MaintainerEmail: Julie.Zhu at umassmed.edu git_url: https://git.bioconductor.org/packages/cleanUpdTSeq git_branch: devel git_last_commit: 8cf2661 git_last_commit_date: 2025-10-29 10:15:28 -0500 (Wed, 29 Oct 2025)