Package: cisPath Version: 1.49.1 Command: /home/biocbuild/bbs-3.23-bioc/R/bin/R CMD INSTALL cisPath StartedAt: 2025-10-22 20:35:53 -0000 (Wed, 22 Oct 2025) EndedAt: 2025-10-22 20:36:03 -0000 (Wed, 22 Oct 2025) EllapsedTime: 9.9 seconds RetCode: 1 Status: ERROR