Package: chromPlot Version: 1.39.0 Command: /home/biocbuild/bbs-3.23-bioc/R/bin/R CMD INSTALL chromPlot StartedAt: 2025-11-07 15:58:37 -0500 (Fri, 07 Nov 2025) EndedAt: 2025-11-07 15:58:53 -0500 (Fri, 07 Nov 2025) EllapsedTime: 15.6 seconds RetCode: 0 Status: OK