Package: chromPlot Version: 1.39.0 Command: /home/biocbuild/bbs-3.23-bioc/R/bin/R CMD build --keep-empty-dirs --no-resave-data chromPlot StartedAt: 2025-11-07 16:47:06 -0500 (Fri, 07 Nov 2025) EndedAt: 2025-11-07 16:47:52 -0500 (Fri, 07 Nov 2025) EllapsedTime: 46.0 seconds RetCode: 0 Status: OK PackageFile: chromPlot_1.39.0.tar.gz PackageFileSize: 1.522 MiB