Package: chimeraviz Version: 1.37.0 Command: /home/biocbuild/bbs-3.23-bioc/R/bin/R CMD build --keep-empty-dirs --no-resave-data chimeraviz StartedAt: 2025-11-19 16:50:27 -0500 (Wed, 19 Nov 2025) EndedAt: 2025-11-19 16:53:47 -0500 (Wed, 19 Nov 2025) EllapsedTime: 200.2 seconds RetCode: 0 Status: OK PackageFile: chimeraviz_1.37.0.tar.gz PackageFileSize: 3.731 MiB