Package: cfTools Version: 1.11.0 Command: /home/biocbuild/bbs-3.23-bioc/R/bin/R CMD INSTALL cfTools StartedAt: 2025-11-21 15:27:32 -0500 (Fri, 21 Nov 2025) EndedAt: 2025-11-21 15:28:16 -0500 (Fri, 21 Nov 2025) EllapsedTime: 43.6 seconds RetCode: 0 Status: OK