Package: cfTools Version: 1.11.0 Command: /home/biocbuild/bbs-3.23-bioc/R/bin/R CMD build --keep-empty-dirs --no-resave-data cfTools StartedAt: 2025-11-21 16:45:26 -0500 (Fri, 21 Nov 2025) EndedAt: 2025-11-21 16:46:40 -0500 (Fri, 21 Nov 2025) EllapsedTime: 74.1 seconds RetCode: 0 Status: OK PackageFile: cfTools_1.11.0.tar.gz PackageFileSize: 2.203 MiB