Package: cfDNAPro Version: 1.17.0 Command: /home/biocbuild/bbs-3.23-bioc/R/bin/R CMD INSTALL cfDNAPro StartedAt: 2025-11-25 15:35:29 -0500 (Tue, 25 Nov 2025) EndedAt: 2025-11-25 15:35:40 -0500 (Tue, 25 Nov 2025) EllapsedTime: 11.6 seconds RetCode: 1 Status: ERROR