Package: ceRNAnetsim Version: 1.23.0 Command: /home/biocbuild/bbs-3.23-bioc/R/bin/R CMD build --keep-empty-dirs --no-resave-data ceRNAnetsim StartedAt: 2025-11-07 16:42:37 -0500 (Fri, 07 Nov 2025) EndedAt: 2025-11-07 16:46:48 -0500 (Fri, 07 Nov 2025) EllapsedTime: 251.3 seconds RetCode: 0 Status: OK PackageFile: ceRNAnetsim_1.23.0.tar.gz PackageFileSize: 2.966 MiB