Package: ceRNAnetsim Version: 1.23.0 Maintainer: Selcen Ari Yuka MaintainerEmail: selcenarii at gmail.com git_url: https://git.bioconductor.org/packages/ceRNAnetsim git_branch: devel git_last_commit: 4b53125 git_last_commit_date: 2025-10-29 10:55:49 -0500 (Wed, 29 Oct 2025)