Back to Build/check report for BioC 3.23:   simplified   long
A[B]CDEFGHIJKLMNOPQRSTUVWXYZ

This page was generated on 2025-11-08 11:32 -0500 (Sat, 08 Nov 2025).

HostnameOSArch (*)R versionInstalled pkgs
nebbiolo1Linux (Ubuntu 24.04.3 LTS)x86_64R Under development (unstable) (2025-10-20 r88955) -- "Unsuffered Consequences" 4821
Click on any hostname to see more info about the system (e.g. compilers)      (*) as reported by 'uname -p', except on Windows and Mac OS X

All results for package bumphunter


To the developers/maintainers of the bumphunter package:
- Allow up to 24 hours (and sometimes 48 hours) for your latest push to git@git.bioconductor.org:packages/bumphunter.git to reflect on this report. See Troubleshooting Build Report for more information.
- Use the following Renviron settings to reproduce errors and warnings.
- If 'R CMD check' started to fail recently on the Linux builder(s) over a missing dependency, add the missing dependency to 'Suggests:' in your DESCRIPTION file. See Renviron.bioc for more information.

raw results

Package 256/2323HostnameOS / ArchINSTALLBUILDCHECKBUILD BIN
bumphunter 1.53.0  (landing page)
Tamilselvi Guharaj
Snapshot Date: 2025-11-07 13:40 -0500 (Fri, 07 Nov 2025)
git_url: https://git.bioconductor.org/packages/bumphunter
git_branch: devel
git_last_commit: 19ed02f
git_last_commit_date: 2025-10-29 10:13:01 -0500 (Wed, 29 Oct 2025)
nebbiolo1Linux (Ubuntu 24.04.3 LTS) / x86_64  OK    OK    OK  UNNEEDED, same version is already published



Results for Bioconductor software packages that depend directly on package bumphunter

QUICK STATSOS / ArchINSTALLBUILDCHECKBUILD BIN
nebbiolo1Linux (Ubuntu 24.04.3 LTS) / x86_64
0110
0110
0028
Package 1/11HostnameOS / ArchINSTALLBUILDCHECKBUILD BIN
ChAMP 2.41.0  (landing page)
Yuan Tian
git_last_commit: 8bc9b68
git_last_commit_date: 2025-10-29 10:17:05 -0500
nebbiolo1Linux (Ubuntu 24.04.3 LTS) / x86_64  OK    OK    WARNINGS  UNNEEDED, same version is already published
Package 2/11HostnameOS / ArchINSTALLBUILDCHECKBUILD BIN
coMethDMR 1.15.0  (landing page)
Fernanda Veitzman
git_last_commit: f721129
git_last_commit_date: 2025-10-29 11:14:12 -0500
nebbiolo1Linux (Ubuntu 24.04.3 LTS) / x86_64  OK    OK    OK  UNNEEDED, same version is already published
Package 3/11HostnameOS / ArchINSTALLBUILDCHECKBUILD BIN
DAMEfinder 1.23.0  (landing page)
Stephany Orjuela
git_last_commit: cb8c833
git_last_commit_date: 2025-10-29 10:56:31 -0500
nebbiolo1Linux (Ubuntu 24.04.3 LTS) / x86_64  OK    OK    OK  UNNEEDED, same version is already published
Package 4/11HostnameOS / ArchINSTALLBUILDCHECKBUILD BIN
derfinder 1.45.0  (landing page)
Leonardo Collado-Torres
git_last_commit: 946e0b8
git_last_commit_date: 2025-10-29 10:21:48 -0500
nebbiolo1Linux (Ubuntu 24.04.3 LTS) / x86_64  OK    OK    OK  UNNEEDED, same version is already published
Package 5/11HostnameOS / ArchINSTALLBUILDCHECKBUILD BIN
dmrseq 1.31.0  (landing page)
Keegan Korthauer
git_last_commit: 4df1200
git_last_commit_date: 2025-10-29 10:43:32 -0500
nebbiolo1Linux (Ubuntu 24.04.3 LTS) / x86_64  OK    OK    OK  YES
Package 6/11HostnameOS / ArchINSTALLBUILDCHECKBUILD BIN
epimutacions 1.15.0  (landing page)
Dolors Pelegri-Siso
git_last_commit: 9c5c202
git_last_commit_date: 2025-10-29 11:16:20 -0500
nebbiolo1Linux (Ubuntu 24.04.3 LTS) / x86_64  OK    OK    OK  UNNEEDED, same version is already published
Package 7/11HostnameOS / ArchINSTALLBUILDCHECKBUILD BIN
epivizr 2.41.0  (landing page)
Hector Corrada Bravo
git_last_commit: ba79c0b
git_last_commit_date: 2025-10-29 10:16:45 -0500
nebbiolo1Linux (Ubuntu 24.04.3 LTS) / x86_64  OK    OK    OK  UNNEEDED, same version is already published
Package 8/11HostnameOS / ArchINSTALLBUILDCHECKBUILD BIN
methylCC 1.25.0  (landing page)
Stephanie C. Hicks
git_last_commit: e4eff51
git_last_commit_date: 2025-10-29 10:54:45 -0500
nebbiolo1Linux (Ubuntu 24.04.3 LTS) / x86_64  ERROR    ERROR  skipped
Package 9/11HostnameOS / ArchINSTALLBUILDCHECKBUILD BIN
minfi 1.57.0  (landing page)
Kasper Daniel Hansen
git_last_commit: 36249fb
git_last_commit_date: 2025-10-29 10:09:18 -0500
nebbiolo1Linux (Ubuntu 24.04.3 LTS) / x86_64  OK    OK    OK  UNNEEDED, same version is already published
Package 10/11HostnameOS / ArchINSTALLBUILDCHECKBUILD BIN
rnaEditr 1.21.0  (landing page)
Lanyu Zhang
git_last_commit: 6261cfb
git_last_commit_date: 2025-10-29 11:03:10 -0500
nebbiolo1Linux (Ubuntu 24.04.3 LTS) / x86_64  OK    OK    WARNINGS  UNNEEDED, same version is already published
Package 11/11HostnameOS / ArchINSTALLBUILDCHECKBUILD BIN
vmrseq 1.3.0  (landing page)
Ning Shen
git_last_commit: ad3b777
git_last_commit_date: 2025-10-29 11:35:54 -0500
nebbiolo1Linux (Ubuntu 24.04.3 LTS) / x86_64  OK    OK    OK  UNNEEDED, same version is already published