Package: branchpointer Version: 1.37.0 Maintainer: Beth Signal MaintainerEmail: b.signal at garvan.org.au git_url: https://git.bioconductor.org/packages/branchpointer git_branch: devel git_last_commit: a9cef4c git_last_commit_date: 2025-10-29 10:37:20 -0500 (Wed, 29 Oct 2025)