Package: blacksheepr Version: 1.25.0 Maintainer: RugglesLab MaintainerEmail: ruggleslab at gmail.com git_url: https://git.bioconductor.org/packages/blacksheepr git_branch: devel git_last_commit: 0a6ceb6 git_last_commit_date: 2025-10-29 10:54:55 -0500 (Wed, 29 Oct 2025)