Package: beadarray Version: 2.61.0 Maintainer: Mark Dunning MaintainerEmail: m.j.dunning at sheffield.ac.uk git_url: https://git.bioconductor.org/packages/beadarray git_branch: devel git_last_commit: 0cd2969 git_last_commit_date: 2025-10-29 09:57:32 -0500 (Wed, 29 Oct 2025)