Package: batchCorr Version: 1.1.0 Maintainer: Anton Ribbenstedt MaintainerEmail: parasitetwin at gmail.com git_url: https://git.bioconductor.org/packages/batchCorr git_branch: devel git_last_commit: e89ddb8 git_last_commit_date: 2025-10-29 11:37:00 -0500 (Wed, 29 Oct 2025)