Package: basilisk.utils Version: 1.23.0 Command: /home/biocbuild/bbs-3.23-bioc/R/bin/R CMD INSTALL basilisk.utils StartedAt: 2025-11-07 15:04:40 -0500 (Fri, 07 Nov 2025) EndedAt: 2025-11-07 15:04:50 -0500 (Fri, 07 Nov 2025) EllapsedTime: 9.8 seconds RetCode: 0 Status: OK