Package: arrayQualityMetrics Version: 3.67.0 Command: /home/biocbuild/bbs-3.23-bioc/R/bin/R CMD check --install=check:arrayQualityMetrics.install-out.txt --library=/home/biocbuild/bbs-3.23-bioc/R/site-library --timings arrayQualityMetrics_3.67.0.tar.gz StartedAt: 2025-11-13 21:05:20 -0500 (Thu, 13 Nov 2025) EndedAt: 2025-11-13 21:14:29 -0500 (Thu, 13 Nov 2025) EllapsedTime: 549.8 seconds RetCode: 0 Status: OK CheckDir: arrayQualityMetrics.Rcheck Warnings: 0