Package: arrayMvout Version: 1.69.0 Command: /home/biocbuild/bbs-3.23-bioc/R/bin/R CMD INSTALL arrayMvout StartedAt: 2025-11-07 16:01:06 -0500 (Fri, 07 Nov 2025) EndedAt: 2025-11-07 16:01:50 -0500 (Fri, 07 Nov 2025) EllapsedTime: 44.4 seconds RetCode: 0 Status: OK